Package: seqTools Version: 1.44.0 Command: /home/biocbuild/bbs-3.22-bioc/R/bin/R CMD INSTALL seqTools StartedAt: 2025-11-11 16:12:34 -0500 (Tue, 11 Nov 2025) EndedAt: 2025-11-11 16:12:34 -0500 (Tue, 11 Nov 2025) EllapsedTime: 0.3 seconds RetCode: 1 Status: ERROR