Package: seqTools Version: 1.44.0 Command: /Library/Frameworks/R.framework/Resources/bin/R CMD INSTALL seqTools StartedAt: 2025-11-20 17:45:05 -0500 (Thu, 20 Nov 2025) EndedAt: 2025-11-20 17:45:05 -0500 (Thu, 20 Nov 2025) EllapsedTime: 0.4 seconds RetCode: 1 Status: ERROR