Package: seqTools Version: 1.44.0 Command: /Library/Frameworks/R.framework/Resources/bin/R CMD build --keep-empty-dirs --no-resave-data seqTools StartedAt: 2025-11-20 23:45:42 -0500 (Thu, 20 Nov 2025) EndedAt: 2025-11-20 23:45:44 -0500 (Thu, 20 Nov 2025) EllapsedTime: 2.2 seconds RetCode: 1 Status: ERROR PackageFile: None PackageFileSize: NA