Package: seqTools Version: 1.42.0 Command: /home/biocbuild/R/R/bin/R CMD build --keep-empty-dirs --no-resave-data seqTools StartedAt: 2025-09-26 05:57:09 -0000 (Fri, 26 Sep 2025) EndedAt: 2025-09-26 05:57:24 -0000 (Fri, 26 Sep 2025) EllapsedTime: 15.0 seconds RetCode: 0 Status: OK PackageFile: seqTools_1.42.0.tar.gz PackageFileSize: 520.2 KiB