Package: seqTools Version: 1.44.0 Maintainer: Wolfgang Kaisers MaintainerEmail: kaisers at med.uni-duesseldorf.de git_url: https://git.bioconductor.org/packages/seqTools git_branch: RELEASE_3_22 git_last_commit: 8baa525 git_last_commit_date: 2025-10-29 10:22:59 -0400 (Wed, 29 Oct 2025)