Package: seqPattern Version: 1.42.0 Command: /home/biocbuild/R/R/bin/R CMD INSTALL seqPattern StartedAt: 2025-11-10 21:23:20 -0000 (Mon, 10 Nov 2025) EndedAt: 2025-11-10 21:23:35 -0000 (Mon, 10 Nov 2025) EllapsedTime: 14.6 seconds RetCode: 0 Status: OK