Package: seqPattern Version: 1.42.0 Command: /home/biocbuild/R/R/bin/R CMD build --keep-empty-dirs --no-resave-data seqPattern StartedAt: 2025-11-11 05:07:50 -0000 (Tue, 11 Nov 2025) EndedAt: 2025-11-11 05:08:30 -0000 (Tue, 11 Nov 2025) EllapsedTime: 40.0 seconds RetCode: 0 Status: OK PackageFile: seqPattern_1.42.0.tar.gz PackageFileSize: 5.358 MiB