Package: seqPattern Version: 1.40.0 Command: E:\biocbuild\bbs-3.21-bioc\R\bin\R.exe CMD INSTALL seqPattern StartedAt: 2025-08-14 15:55:47 -0400 (Thu, 14 Aug 2025) EndedAt: 2025-08-14 15:56:14 -0400 (Thu, 14 Aug 2025) EllapsedTime: 27.0 seconds RetCode: 0 Status: OK