Package: seqPattern Version: 1.40.0 Command: rm -rf seqPattern.buildbin-libdir && mkdir seqPattern.buildbin-libdir && E:\biocbuild\bbs-3.21-bioc\R\bin\R.exe CMD INSTALL --build --library=seqPattern.buildbin-libdir seqPattern_1.40.0.tar.gz StartedAt: 2025-08-15 10:17:19 -0400 (Fri, 15 Aug 2025) EndedAt: 2025-08-15 10:17:55 -0400 (Fri, 15 Aug 2025) EllapsedTime: 35.6 seconds RetCode: 0 Status: OK PackageFile: seqPattern_1.40.0.zip PackageFileSize: 3.527 MiB