Package: seqPattern Version: 1.42.0 Command: /home/biocbuild/bbs-3.22-bioc/R/bin/R CMD check --install=check:seqPattern.install-out.txt --library=/home/biocbuild/bbs-3.22-bioc/R/site-library --timings seqPattern_1.42.0.tar.gz StartedAt: 2025-11-12 04:06:03 -0500 (Wed, 12 Nov 2025) EndedAt: 2025-11-12 04:08:26 -0500 (Wed, 12 Nov 2025) EllapsedTime: 142.2 seconds RetCode: 0 Status: OK CheckDir: seqPattern.Rcheck Warnings: 0