Package: seqPattern Version: 1.42.0 Command: /home/biocbuild/bbs-3.22-bioc/R/bin/R CMD build --keep-empty-dirs --no-resave-data --md5 seqPattern StartedAt: 2025-11-11 20:11:05 -0500 (Tue, 11 Nov 2025) EndedAt: 2025-11-11 20:11:37 -0500 (Tue, 11 Nov 2025) EllapsedTime: 31.0 seconds RetCode: 0 Status: OK PackageFile: seqPattern_1.42.0.tar.gz PackageFileSize: 5.37 MiB