Package: seqPattern Version: 1.40.0 Command: /Library/Frameworks/R.framework/Resources/bin/R CMD INSTALL seqPattern StartedAt: 2025-09-25 16:24:50 -0400 (Thu, 25 Sep 2025) EndedAt: 2025-09-25 16:25:03 -0400 (Thu, 25 Sep 2025) EllapsedTime: 12.9 seconds RetCode: 0 Status: OK