Package: seqLogo Version: 1.76.0 Command: /home/biocbuild/bbs-3.22-bioc/R/bin/R CMD build --keep-empty-dirs --no-resave-data --md5 seqLogo StartedAt: 2025-11-11 20:10:58 -0500 (Tue, 11 Nov 2025) EndedAt: 2025-11-11 20:11:05 -0500 (Tue, 11 Nov 2025) EllapsedTime: 7.0 seconds RetCode: 0 Status: OK PackageFile: seqLogo_1.76.0.tar.gz PackageFileSize: 919.5 KiB