Package: seqLogo Version: 1.74.0 Command: /home/biocbuild/R/R/bin/R CMD INSTALL seqLogo StartedAt: 2025-10-13 20:14:34 -0000 (Mon, 13 Oct 2025) EndedAt: 2025-10-13 20:15:05 -0000 (Mon, 13 Oct 2025) EllapsedTime: 30.2 seconds RetCode: 0 Status: OK