Package: seqCAT Version: 1.32.0 Command: /home/biocbuild/bbs-3.22-bioc/R/bin/R CMD INSTALL seqCAT StartedAt: 2025-11-11 15:47:07 -0500 (Tue, 11 Nov 2025) EndedAt: 2025-11-11 15:47:47 -0500 (Tue, 11 Nov 2025) EllapsedTime: 39.2 seconds RetCode: 0 Status: OK