Package: seqCAT Version: 1.32.0 Command: /home/biocbuild/bbs-3.22-bioc/R/bin/R CMD check --install=check:seqCAT.install-out.txt --library=/home/biocbuild/bbs-3.22-bioc/R/site-library --timings seqCAT_1.32.0.tar.gz StartedAt: 2025-11-18 08:30:11 -0500 (Tue, 18 Nov 2025) EndedAt: 2025-11-18 08:36:20 -0500 (Tue, 18 Nov 2025) EllapsedTime: 368.5 seconds RetCode: 0 Status: OK CheckDir: seqCAT.Rcheck Warnings: 0