Package: seqCAT Version: 1.32.0 Command: /Library/Frameworks/R.framework/Resources/bin/R CMD INSTALL seqCAT StartedAt: 2025-11-03 15:43:18 -0500 (Mon, 03 Nov 2025) EndedAt: 2025-11-03 15:44:11 -0500 (Mon, 03 Nov 2025) EllapsedTime: 53.2 seconds RetCode: 0 Status: OK