Package: seqCAT Version: 1.32.0 Command: /Library/Frameworks/R.framework/Resources/bin/R CMD build --keep-empty-dirs --no-resave-data seqCAT StartedAt: 2025-11-03 18:45:53 -0500 (Mon, 03 Nov 2025) EndedAt: 2025-11-03 18:47:38 -0500 (Mon, 03 Nov 2025) EllapsedTime: 104.7 seconds RetCode: 0 Status: OK PackageFile: seqCAT_1.32.0.tar.gz PackageFileSize: 1.897 MiB