Package: seqCAT Version: 1.32.0 Command: rm -rf seqCAT.buildbin-libdir && mkdir seqCAT.buildbin-libdir && /Users/biocbuild/BBS/utils/build-universal.sh seqCAT_1.32.0.tar.gz /Library/Frameworks/R.framework/Resources/bin/R seqCAT.buildbin-libdir StartedAt: 2025-11-04 02:03:52 -0500 (Tue, 04 Nov 2025) EndedAt: 2025-11-04 02:04:47 -0500 (Tue, 04 Nov 2025) EllapsedTime: 55.2 seconds RetCode: 0 Status: OK PackageFile: seqCAT_1.32.0.tgz PackageFileSize: 1.96 MiB