Package: seqCAT Version: 1.30.0 Command: /home/biocbuild/R/R/bin/R CMD build --keep-empty-dirs --no-resave-data seqCAT StartedAt: 2025-10-14 04:38:56 -0000 (Tue, 14 Oct 2025) EndedAt: 2025-10-14 04:41:09 -0000 (Tue, 14 Oct 2025) EllapsedTime: 133.1 seconds RetCode: 0 Status: OK PackageFile: seqCAT_1.30.0.tar.gz PackageFileSize: 1.939 MiB