Package: seqCAT Version: 1.30.0 Command: /Library/Frameworks/R.framework/Resources/bin/R CMD build --keep-empty-dirs --no-resave-data seqCAT StartedAt: 2025-04-21 17:38:35 -0400 (Mon, 21 Apr 2025) EndedAt: 2025-04-21 17:39:14 -0400 (Mon, 21 Apr 2025) EllapsedTime: 38.5 seconds RetCode: 0 Status: OK PackageFile: seqCAT_1.30.0.tar.gz PackageFileSize: 1.895 MiB