Package: seqArchRplus Version: 1.10.0 Command: /home/biocbuild/bbs-3.22-bioc/R/bin/R CMD INSTALL seqArchRplus StartedAt: 2025-11-11 16:05:12 -0500 (Tue, 11 Nov 2025) EndedAt: 2025-11-11 16:05:37 -0500 (Tue, 11 Nov 2025) EllapsedTime: 24.2 seconds RetCode: 0 Status: OK