Package: seqArchRplus Version: 1.8.0 Command: /home/biocbuild/R/R/bin/R CMD INSTALL seqArchRplus StartedAt: 2025-10-13 21:18:40 -0000 (Mon, 13 Oct 2025) EndedAt: 2025-10-13 21:19:15 -0000 (Mon, 13 Oct 2025) EllapsedTime: 35.1 seconds RetCode: 0 Status: OK