Package: seqArchRplus Version: 1.8.0 Command: /home/biocbuild/R/R/bin/R CMD build --keep-empty-dirs --no-resave-data seqArchRplus StartedAt: 2025-10-14 04:38:39 -0000 (Tue, 14 Oct 2025) EndedAt: 2025-10-14 04:42:49 -0000 (Tue, 14 Oct 2025) EllapsedTime: 250.2 seconds RetCode: 0 Status: OK PackageFile: seqArchRplus_1.8.0.tar.gz PackageFileSize: 2.735 MiB