Package: seqArchRplus Version: 1.10.0 Command: /Library/Frameworks/R.framework/Resources/bin/R CMD INSTALL seqArchRplus StartedAt: 2025-11-06 15:32:06 -0500 (Thu, 06 Nov 2025) EndedAt: 2025-11-06 15:32:16 -0500 (Thu, 06 Nov 2025) EllapsedTime: 10.2 seconds RetCode: 0 Status: OK