Package: seqArchRplus Version: 1.10.0 Command: rm -rf seqArchRplus.buildbin-libdir && mkdir seqArchRplus.buildbin-libdir && /Users/biocbuild/BBS/utils/build-universal.sh seqArchRplus_1.10.0.tar.gz /Library/Frameworks/R.framework/Resources/bin/R seqArchRplus.buildbin-libdir StartedAt: 2025-11-06 23:21:34 -0500 (Thu, 06 Nov 2025) EndedAt: 2025-11-06 23:21:46 -0500 (Thu, 06 Nov 2025) EllapsedTime: 11.2 seconds RetCode: 0 Status: OK PackageFile: seqArchRplus_1.10.0.tgz PackageFileSize: 3.849 MiB