Package: seqArchR Version: 1.14.0 Command: /home/biocbuild/R/R/bin/R CMD INSTALL seqArchR StartedAt: 2025-11-17 21:30:28 -0000 (Mon, 17 Nov 2025) EndedAt: 2025-11-17 21:30:52 -0000 (Mon, 17 Nov 2025) EllapsedTime: 24.1 seconds RetCode: 0 Status: OK