Package: seqArchR Version: 1.14.0 Command: /home/biocbuild/R/R/bin/R CMD build --keep-empty-dirs --no-resave-data seqArchR StartedAt: 2025-11-18 05:02:42 -0000 (Tue, 18 Nov 2025) EndedAt: 2025-11-18 05:03:44 -0000 (Tue, 18 Nov 2025) EllapsedTime: 62.0 seconds RetCode: 0 Status: OK PackageFile: seqArchR_1.14.0.tar.gz PackageFileSize: 3.983 MiB