Package: seqArchR Version: 1.12.0 Command: /home/biocbuild/bbs-3.21-bioc/R/bin/R CMD INSTALL seqArchR StartedAt: 2025-10-15 15:22:51 -0400 (Wed, 15 Oct 2025) EndedAt: 2025-10-15 15:23:08 -0400 (Wed, 15 Oct 2025) EllapsedTime: 17.0 seconds RetCode: 0 Status: OK