Package: seqArchR Version: 1.12.0 Command: /home/biocbuild/bbs-3.21-bioc/R/bin/R CMD build --keep-empty-dirs --no-resave-data seqArchR StartedAt: 2025-10-15 19:51:47 -0400 (Wed, 15 Oct 2025) EndedAt: 2025-10-15 19:52:28 -0400 (Wed, 15 Oct 2025) EllapsedTime: 41.0 seconds RetCode: 0 Status: OK PackageFile: seqArchR_1.12.0.tar.gz PackageFileSize: 4.402 MiB