Package: seqArchR Version: 1.14.0 Command: /Library/Frameworks/R.framework/Resources/bin/R CMD INSTALL seqArchR StartedAt: 2025-10-30 15:16:34 -0400 (Thu, 30 Oct 2025) EndedAt: 2025-10-30 15:16:59 -0400 (Thu, 30 Oct 2025) EllapsedTime: 24.7 seconds RetCode: 0 Status: OK