Package: seqArchR Version: 1.14.0 Command: /Library/Frameworks/R.framework/Resources/bin/R CMD build --keep-empty-dirs --no-resave-data seqArchR StartedAt: 2025-10-30 18:37:31 -0400 (Thu, 30 Oct 2025) EndedAt: 2025-10-30 18:38:18 -0400 (Thu, 30 Oct 2025) EllapsedTime: 46.7 seconds RetCode: 0 Status: OK PackageFile: seqArchR_1.14.0.tar.gz PackageFileSize: 4.768 MiB