Package: seqArchR Version: 1.12.0 Command: /home/biocbuild/R/R/bin/R CMD INSTALL seqArchR StartedAt: 2025-09-25 20:30:38 -0000 (Thu, 25 Sep 2025) EndedAt: 2025-09-25 20:31:01 -0000 (Thu, 25 Sep 2025) EllapsedTime: 22.8 seconds RetCode: 0 Status: OK