Package: seqArchR Version: 1.12.0 Command: /home/biocbuild/R/R/bin/R CMD build --keep-empty-dirs --no-resave-data seqArchR StartedAt: 2025-09-26 05:55:08 -0000 (Fri, 26 Sep 2025) EndedAt: 2025-09-26 05:56:01 -0000 (Fri, 26 Sep 2025) EllapsedTime: 53.0 seconds RetCode: 0 Status: OK PackageFile: seqArchR_1.12.0.tar.gz PackageFileSize: 4.352 MiB