Package: seqArchR Version: 1.12.0 Command: /Library/Frameworks/R.framework/Resources/bin/R CMD INSTALL seqArchR StartedAt: 2025-04-21 15:08:21 -0400 (Mon, 21 Apr 2025) EndedAt: 2025-04-21 15:08:27 -0400 (Mon, 21 Apr 2025) EllapsedTime: 6.1 seconds RetCode: 0 Status: OK