Package: seqArchR Version: 1.12.0 Command: /Library/Frameworks/R.framework/Resources/bin/R CMD INSTALL seqArchR StartedAt: 2025-10-13 15:45:52 -0400 (Mon, 13 Oct 2025) EndedAt: 2025-10-13 15:46:13 -0400 (Mon, 13 Oct 2025) EllapsedTime: 20.7 seconds RetCode: 0 Status: OK