Package: seqArchR Version: 1.12.0 Command: /Library/Frameworks/R.framework/Resources/bin/R CMD build --keep-empty-dirs --no-resave-data seqArchR StartedAt: 2025-10-14 09:16:54 -0400 (Tue, 14 Oct 2025) EndedAt: 2025-10-14 09:17:46 -0400 (Tue, 14 Oct 2025) EllapsedTime: 51.9 seconds RetCode: 0 Status: OK PackageFile: seqArchR_1.12.0.tar.gz PackageFileSize: 4.767 MiB