Package: seq2pathway Version: 1.42.0 Command: /home/biocbuild/bbs-3.22-bioc/R/bin/R CMD build --keep-empty-dirs --no-resave-data --md5 seq2pathway StartedAt: 2025-11-11 20:10:07 -0500 (Tue, 11 Nov 2025) EndedAt: 2025-11-11 20:11:10 -0500 (Tue, 11 Nov 2025) EllapsedTime: 63.1 seconds RetCode: 0 Status: OK PackageFile: seq2pathway_1.42.0.tar.gz PackageFileSize: 1.418 MiB