Package: seq.hotSPOT Version: 1.10.0 Command: /home/biocbuild/bbs-3.22-bioc/R/bin/R CMD INSTALL seq.hotSPOT StartedAt: 2025-11-14 15:04:57 -0500 (Fri, 14 Nov 2025) EndedAt: 2025-11-14 15:05:15 -0500 (Fri, 14 Nov 2025) EllapsedTime: 18.0 seconds RetCode: 0 Status: OK