Package: seq.hotSPOT Version: 1.10.0 Command: /home/biocbuild/bbs-3.22-bioc/R/bin/R CMD build --keep-empty-dirs --no-resave-data --md5 seq.hotSPOT StartedAt: 2025-11-14 20:09:44 -0500 (Fri, 14 Nov 2025) EndedAt: 2025-11-14 20:09:51 -0500 (Fri, 14 Nov 2025) EllapsedTime: 7.0 seconds RetCode: 0 Status: OK PackageFile: seq.hotSPOT_1.10.0.tar.gz PackageFileSize: 1.402 MiB