Package: selectKSigs Version: 1.22.0 Command: /home/biocbuild/bbs-3.22-bioc/R/bin/R CMD build --keep-empty-dirs --no-resave-data --md5 selectKSigs StartedAt: 2025-11-11 20:09:31 -0500 (Tue, 11 Nov 2025) EndedAt: 2025-11-11 20:10:58 -0500 (Tue, 11 Nov 2025) EllapsedTime: 87.1 seconds RetCode: 0 Status: OK PackageFile: selectKSigs_1.22.0.tar.gz PackageFileSize: 392.2 KiB