Package: selectKSigs Version: 1.20.0 Command: /home/biocbuild/R/R/bin/R CMD INSTALL selectKSigs StartedAt: 2025-10-13 21:19:27 -0000 (Mon, 13 Oct 2025) EndedAt: 2025-10-13 21:19:28 -0000 (Mon, 13 Oct 2025) EllapsedTime: 1.0 seconds RetCode: 1 Status: ERROR