Package: selectKSigs Version: 1.22.0 Command: /Library/Frameworks/R.framework/Resources/bin/R CMD INSTALL selectKSigs StartedAt: 2025-11-10 15:32:18 -0500 (Mon, 10 Nov 2025) EndedAt: 2025-11-10 15:32:23 -0500 (Mon, 10 Nov 2025) EllapsedTime: 5.1 seconds RetCode: 0 Status: OK