Package: selectKSigs Version: 1.22.0 Command: /Library/Frameworks/R.framework/Resources/bin/R CMD build --keep-empty-dirs --no-resave-data selectKSigs StartedAt: 2025-11-10 17:43:40 -0500 (Mon, 10 Nov 2025) EndedAt: 2025-11-10 17:44:17 -0500 (Mon, 10 Nov 2025) EllapsedTime: 37.4 seconds RetCode: 0 Status: OK PackageFile: selectKSigs_1.22.0.tar.gz PackageFileSize: 406.6 KiB