Package: selectKSigs Version: 1.22.0 Command: rm -rf selectKSigs.buildbin-libdir && mkdir selectKSigs.buildbin-libdir && /Users/biocbuild/BBS/utils/build-universal.sh selectKSigs_1.22.0.tar.gz /Library/Frameworks/R.framework/Resources/bin/R selectKSigs.buildbin-libdir StartedAt: 2025-11-10 23:36:23 -0500 (Mon, 10 Nov 2025) EndedAt: 2025-11-10 23:36:29 -0500 (Mon, 10 Nov 2025) EllapsedTime: 6.1 seconds RetCode: 0 Status: OK PackageFile: selectKSigs_1.22.0.tgz PackageFileSize: 489.5 KiB