Package: segmenter Version: 1.16.0 Command: /home/biocbuild/R/R/bin/R CMD check --install=check:segmenter.install-out.txt --library=/home/biocbuild/R/R/site-library --no-vignettes --timings segmenter_1.16.0.tar.gz StartedAt: 2025-11-14 14:32:17 -0000 (Fri, 14 Nov 2025) EndedAt: 2025-11-14 14:44:56 -0000 (Fri, 14 Nov 2025) EllapsedTime: 759.5 seconds RetCode: 0 Status: OK CheckDir: segmenter.Rcheck Warnings: 0