Package: segmenter Version: 1.16.0 Command: /home/biocbuild/R/R/bin/R CMD build --keep-empty-dirs --no-resave-data segmenter StartedAt: 2025-11-11 05:05:30 -0000 (Tue, 11 Nov 2025) EndedAt: 2025-11-11 05:18:00 -0000 (Tue, 11 Nov 2025) EllapsedTime: 750.4 seconds RetCode: 0 Status: OK PackageFile: segmenter_1.16.0.tar.gz PackageFileSize: 3.909 MiB