Package: segmenter Version: 1.16.0 Command: /home/biocbuild/bbs-3.22-bioc/R/bin/R CMD build --keep-empty-dirs --no-resave-data --md5 segmenter StartedAt: 2025-11-11 20:09:20 -0500 (Tue, 11 Nov 2025) EndedAt: 2025-11-11 20:16:30 -0500 (Tue, 11 Nov 2025) EllapsedTime: 429.4 seconds RetCode: 0 Status: OK PackageFile: segmenter_1.16.0.tar.gz PackageFileSize: 3.985 MiB