Package: segmenter Version: 1.14.0 Command: /home/biocbuild/bbs-3.21-bioc/R/bin/R CMD check --install=check:segmenter.install-out.txt --library=/home/biocbuild/bbs-3.21-bioc/R/site-library --timings segmenter_1.14.0.tar.gz StartedAt: 2025-10-16 03:30:09 -0400 (Thu, 16 Oct 2025) EndedAt: 2025-10-16 03:44:11 -0400 (Thu, 16 Oct 2025) EllapsedTime: 841.2 seconds RetCode: 0 Status: OK CheckDir: segmenter.Rcheck Warnings: 0