Package: segmenter Version: 1.14.0 Command: /home/biocbuild/R/R/bin/R CMD check --install=check:segmenter.install-out.txt --library=/home/biocbuild/R/R/site-library --no-vignettes --timings segmenter_1.14.0.tar.gz StartedAt: 2025-10-10 13:49:20 -0000 (Fri, 10 Oct 2025) EndedAt: 2025-10-10 14:00:07 -0000 (Fri, 10 Oct 2025) EllapsedTime: 646.8 seconds RetCode: 0 Status: OK CheckDir: segmenter.Rcheck Warnings: 0